BEGIN:VCALENDAR
VERSION:2.0
PRODID:-//GHH - ECPv6.15.18//NONSGML v1.0//EN
CALSCALE:GREGORIAN
METHOD:PUBLISH
X-ORIGINAL-URL:https://beta.g-h-h.de
X-WR-CALDESC:Veranstaltungen für GHH
REFRESH-INTERVAL;VALUE=DURATION:PT1H
X-Robots-Tag:noindex
X-PUBLISHED-TTL:PT1H
BEGIN:VTIMEZONE
TZID:Europe/Berlin
BEGIN:DAYLIGHT
TZOFFSETFROM:+0100
TZOFFSETTO:+0200
TZNAME:CEST
DTSTART:20240331T010000
END:DAYLIGHT
BEGIN:STANDARD
TZOFFSETFROM:+0200
TZOFFSETTO:+0100
TZNAME:CET
DTSTART:20241027T010000
END:STANDARD
BEGIN:DAYLIGHT
TZOFFSETFROM:+0100
TZOFFSETTO:+0200
TZNAME:CEST
DTSTART:20250330T010000
END:DAYLIGHT
BEGIN:STANDARD
TZOFFSETFROM:+0200
TZOFFSETTO:+0100
TZNAME:CET
DTSTART:20251026T010000
END:STANDARD
BEGIN:DAYLIGHT
TZOFFSETFROM:+0100
TZOFFSETTO:+0200
TZNAME:CEST
DTSTART:20260329T010000
END:DAYLIGHT
BEGIN:STANDARD
TZOFFSETFROM:+0200
TZOFFSETTO:+0100
TZNAME:CET
DTSTART:20261025T010000
END:STANDARD
END:VTIMEZONE
BEGIN:VEVENT
DTSTART;TZID=Europe/Berlin:20250827T180000
DTEND;TZID=Europe/Berlin:20250827T200000
DTSTAMP:20260421T212819
CREATED:20250817T163804Z
LAST-MODIFIED:20250819T061636Z
UID:10000006-1756317600-1756324800@beta.g-h-h.de
SUMMARY:»Der Zweite Weltkrieg und die deutsche Besatzung in Polen: Die Erinnerung in Deutschland und in Polen«.Podiumsdiskussion
DESCRIPTION:Thema\nDas Polnische Institut Düsseldorf\, die Heinrich-Heine-Universität Düsseldorf und das Gerhart-Hauptmann-Haus Düsseldorf laden Sie ein zur Podiumsdiskussion aus Anlass des 86. Jahrestag des deutschen Überfalls auf Polen am 01. September 1939 mit \nProf. Dr. habil. Dr. h.c. Robert Traba (Institut für Politische Studien\, Polnische Akademie der Wissenschaften)\,Prof. Dr. Anke Hilbrenner (Lehrstuhl für Osteuropäische Geschichte\, Heinrich-Heine-Universität Düsseldorf)\,Prof. Dr. Peter Oliver Loew (Deutsches Polen-Institut).Moderation: Bartosz Dudek (Redakteur Deutsche Welle) \nEINTRITT FREI!\nWir bitten um Bestätigung Ihrer Teilnahme bis zum 22. August 2025 per E-Mail an:dusseldorfinstytutpolskipl \nDie Podiumsdiskussion ist eine Kooperationsveranstaltung von: Polnisches Institut Düsseldorf\, Heinrich-Heine-Universität Düsseldorf und Stiftung Gerhart-Hauptmann-Haus
URL:https://beta.g-h-h.de/event/der-zweite-weltkrieg-und-die-deutsche-besatzung-in-polen-die-erinnerung-in-deutschland-und-in-polen-podiumsdiskussion/
LOCATION:Polnisches Institut Düsseldorf\, Citadellstraße 7\, Düsseldorf\, 40213\, Germany
CATEGORIES:Podiumsdiskussion
ATTACH;FMTTYPE=image/jpeg:https://beta.g-h-h.de/wp-content/uploads/2025/08/csm_podiumsdiskussion_pol._inst._81c084981e.jpg
END:VEVENT
END:VCALENDAR